BEGIN:VCALENDAR
VERSION:2.0
PRODID:-//Deal Tri - ECPv6.15.18//NONSGML v1.0//EN
CALSCALE:GREGORIAN
METHOD:PUBLISH
X-WR-CALNAME:Deal Tri
X-ORIGINAL-URL:https://www.dealtri.co.uk
X-WR-CALDESC:Events for Deal Tri
REFRESH-INTERVAL;VALUE=DURATION:PT1H
X-Robots-Tag:noindex
X-PUBLISHED-TTL:PT1H
BEGIN:VTIMEZONE
TZID:Europe/London
BEGIN:DAYLIGHT
TZOFFSETFROM:+0000
TZOFFSETTO:+0100
TZNAME:BST
DTSTART:20230326T010000
END:DAYLIGHT
BEGIN:STANDARD
TZOFFSETFROM:+0100
TZOFFSETTO:+0000
TZNAME:GMT
DTSTART:20231029T010000
END:STANDARD
BEGIN:DAYLIGHT
TZOFFSETFROM:+0000
TZOFFSETTO:+0100
TZNAME:BST
DTSTART:20240331T010000
END:DAYLIGHT
BEGIN:STANDARD
TZOFFSETFROM:+0100
TZOFFSETTO:+0000
TZNAME:GMT
DTSTART:20241027T010000
END:STANDARD
BEGIN:DAYLIGHT
TZOFFSETFROM:+0000
TZOFFSETTO:+0100
TZNAME:BST
DTSTART:20250330T010000
END:DAYLIGHT
BEGIN:STANDARD
TZOFFSETFROM:+0100
TZOFFSETTO:+0000
TZNAME:GMT
DTSTART:20251026T010000
END:STANDARD
BEGIN:DAYLIGHT
TZOFFSETFROM:+0000
TZOFFSETTO:+0100
TZNAME:BST
DTSTART:20260329T010000
END:DAYLIGHT
BEGIN:STANDARD
TZOFFSETFROM:+0100
TZOFFSETTO:+0000
TZNAME:GMT
DTSTART:20261025T010000
END:STANDARD
BEGIN:DAYLIGHT
TZOFFSETFROM:+0000
TZOFFSETTO:+0100
TZNAME:BST
DTSTART:20270328T010000
END:DAYLIGHT
BEGIN:STANDARD
TZOFFSETFROM:+0100
TZOFFSETTO:+0000
TZNAME:GMT
DTSTART:20271031T010000
END:STANDARD
END:VTIMEZONE
BEGIN:VEVENT
DTSTART;TZID=Europe/London:20260301T093000
DTEND;TZID=Europe/London:20260301T110000
DTSTAMP:20260421T110822
CREATED:20250829T165257Z
LAST-MODIFIED:20260125T193433Z
UID:10000781-1772357400-1772362800@www.dealtri.co.uk
SUMMARY:Daniel Squire Duathlon Club Championship event -Sunday 1st March
DESCRIPTION:The Daniel Squire Duathlon Club Championship concludes the Winter Duathlon Series for 2025/2026. \nThe duathlon series are not intended to be full on ‘races’\, more about being a friendly\, safe training opportunity with an element of competition built in! As always the duathlons will be open to both club members and guests. \nDuathlon Information \n\nPre-booking your place is required because there are no on the day entries. You have  upto 15:00 on Saturday 28th February to do so by emailing Margaret Reidy @  secretary@dealtri.co.uk\nRegistration is open from 8:30 at the track-side shelter\nRound 2 saw a new format with the introduction of  3 start times\, which worked out well so we will continue with the following format:\nStart 1 – 09:00 this start is for those who finish in around 01:10:00 and above only\nStart 2 – 09:15 this start is for those who finish over the hour and upto 01:09:00\nStart 3 – 09:30 this start is for those who finish under the hour\nHowever\, these are just recommended start times and also just to advise when possible start 3 may go little earlier.
URL:https://www.dealtri.co.uk/event/daniel-squire-duathlon-club-championship-event/
LOCATION:Betteshanger Country Park\, Sandwich Road\, Deal\, Kent\, CT14 0BF\, United Kingdom
CATEGORIES:Multisport
END:VEVENT
BEGIN:VEVENT
DTSTART;TZID=Europe/London:20260222T093000
DTEND;TZID=Europe/London:20260222T110000
DTSTAMP:20260421T110822
CREATED:20250829T164858Z
LAST-MODIFIED:20260125T192934Z
UID:10000780-1771752600-1771758000@www.dealtri.co.uk
SUMMARY:Winter Duathlon Series - Round 4 - Sunday 22nd February
DESCRIPTION:Don’t miss the opportunity to  take part  at our duathlon series… \nThe duathlon series are not intended to be full on ‘races’\, more about being a friendly\, safe training opportunity with an element of competition built in! As always the duathlons will be open to both club members and guests. \nDuathlon Information\n\n\n\nPre-booking your place is required because there are no on the day entries. You have  upto 15:00 on Saturday 21st February to do so by emailing Margaret Reidy @  secretary@dealtri.co.uk\nRegistration is open from 8:30 at the track-side shelter\nRound 2 saw a new format with the introduction of  3 start times\, which worked out well so we will continue with the following format:\nStart 1 – 09:00 this start is for those who finish in around 01:10:00 and above only\nStart 2 – 09:15 this start is for those who finish over the hour and upto 01:09:00\nStart 3 – 09:30 this start is for those who finish under the hour\nHowever\, these are just recommended start times and also just to advise when possible start 3 may go little earlier.\n\n\nRound 5 which is also the Daniel Squire Club Champ Race is Sunday 1st March
URL:https://www.dealtri.co.uk/event/winter-duathlon-series-round-4/
LOCATION:Betteshanger Country Park\, Sandwich Road\, Deal\, Kent\, CT14 0BF\, United Kingdom
CATEGORIES:Multisport
END:VEVENT
BEGIN:VEVENT
DTSTART;TZID=Europe/London:20260215T103000
DTEND;TZID=Europe/London:20260215T133000
DTSTAMP:20260421T110822
CREATED:20250617T172400Z
LAST-MODIFIED:20260119T151838Z
UID:10000144-1771151400-1771162200@www.dealtri.co.uk
SUMMARY:Deal Half Marathon and Junior 1.5k event 2026
DESCRIPTION:Starts from Betteshanger Road at 10.30.  Junior race 10.45. HQ Betteshanger Park. \nDetails and entries via Half Marathon page – click here.
URL:https://www.dealtri.co.uk/event/deal-half-marathon-2026/
LOCATION:Betteshanger Country Park\, Sandwich Road\, Deal\, Kent\, CT14 0BF\, United Kingdom
CATEGORIES:Run
END:VEVENT
BEGIN:VEVENT
DTSTART;TZID=Europe/London:20260215T103000
DTEND;TZID=Europe/London:20260215T133000
DTSTAMP:20260421T110822
CREATED:20250109T154540Z
LAST-MODIFIED:20260215T215508Z
UID:10000004-1771151400-1771162200@www.dealtri.co.uk
SUMMARY:Deal Half Marathon 2026
DESCRIPTION:    \nResults now available on the Sports Systems site – https://events.sportsystems.co.uk/results/ \nDeal Tri are pleased to announce that the Deal Tri Half Marathon 2026 will take place on Sunday 15th Feb on the quiet rural roads through the villages of Betteshanger\, Northbourne\, Ripple\, Sutton\, East Langdon and Martin.  The race starts on Betteshanger Road\, opposite the entrance to Betteshanger Park. \nThe online entries are available from the Sport Systems website here \nOr you can download and print an Entry Form here. \nAffiliated to a UKA club £20 \nUnaffiliated £22 \nOn the day £30 \nThe Junior 1500m race is along the cycle path on Betteshanger Road\, starting at 10.45 at the Half Marathon start location. £4 online pre-entry\, £5 on the day. \nResults will be available on Sport Systems website and attached as a download on our Results page. \nAny queries please contact Jill Cliff on runnerbeano@hotmail.com or Liam on liam.burke@sportsystems.co.uk \nYou can view the race terms and conditions here. \nAll finishers receive a Deal Tri Half Marathon boot bag and a lovely slate medal coaster.  We continue our mining theme to commemorate Betteshanger Park being built on Betteshanger colliery\, with this year’s slate medal picturing a miners lamp used at Betteshanger. \nUsing an accurately measured course the challenging route takes in the scenic Kent countryside surrounding Deal. There will be water stations located at 3\, 5\, 7.5 and 10 miles and you can view a route map here.  There are toilets at our sponsors Mutleys Plant Services Ltd at mile 5 (what luxury!) \nThe race headquarters are based at Betteshanger Park where there will be toilets and additional toilet facilities will be situated close to the start and finish area. You are also able to leave any jackets or jumpers at the start/finish in the white van\, however it is not to be used for luggage and will not be monitored all the time. \nThere is ample parking available at Betteshanger Park and you are advised to leave all belongings in your car (except outer layers which can be left near the start). Please note the parking charge is £5.50 for 3+ hours\, or up to 1 hour £2.50\, up to 2 hours £3.50\, up to 3 hours £4.50\, payable before you leave the Park.  Charges are for 1 visit only\, ie if you leave and come back in\, you are required to pay a separate charge\, I’m afraid. \nRace entry fees are kept low to allow for this. Car share where possible. And remember the parking fee goes towards the upkeep of this wonderful park. Please do not park on the grass on the roundabout on the A258 as this is not a parking area and inhibits the view of the motorists and supporters crossing the road. \nWe have Winnie\, Flo and Co Catering Van down by the visitor centre\, serving freshly ground coffee\, tea\, and hot chocolate and light snacks.  And the Park catering vehicle will also be in operation. \nThere is a fantastic list of prizes including £50 for first male and female\, plus Podplus prizes and vouchers for 2nd and 3rd placed male and female. Team winners receive a Podplus goody bag..  And age group winners also receive a Podplus Prize!  Many thanks to Podplus for sponsoring our prizes.  Based in Ashford at the Julie Rose Stadium\, they have a super sports shop and offer many services including shoe fitting and biomechanics\, podiatry and chiropody\, physiotherapy\, pilates\, sports therapy\, deep tissue and remedial massage\, reflexology and emotional freedom technique. Definitely worth a visit!! \nAll race numbers are to be collected on the morning of the race so you are advised to give yourself enough time to collect your race number and get to the start on time. \nPlease note that due to the race taking place on open roads\, all headphones are banned for the event\, including bone conducting ear phones. Anyone seen wearing headphones during the race will be disqualified. Please respect this decision by organisers in the interest of your safety so that the marshals can concentrate on their job and not police head phone users.. \nThe race has a cut off time of 2:50 and you must pass through halfway in 1:25. \nJunior Race – starts 10:45 after main race has left. 1500m out and back along the cycle path on Betteshanger Road\, opposite the entrance to the park.  Online pre-entry £4\, on the day £5. Prize giving will be straight after the race at the finish.  Age range up to 16yrs\, with prizes in 2 year bands. \nWe are trying to make this race as Environmentally friendly as possible. So this year we are going for a beautiful slate coaster medal as the finishers’ momento.  You can remove the ribbon if you wish so it can be proudly displayed and used daily on your work desk or at home!  Better still\, pick the option for no ribbon.  Or you can instead opt for Deal Tri to donate £2 to the Woodland Trust on your behalf. You can let us know your choice via the drop down box on the online entry form.   Last year this led to a £48 donation to the Woodland Trust. \nAll finishers also receive a Deal Tri Half Marathon boot bag!! \nIn addition to thinking about the impact of medals on the environment\, we use reusable cups\, healthy low-packaging post-race snacks\, adult prize winners receive useful vouchers rather than trophies\, junior prize winners receive repurposed trophies. Cardboard\, plastic wrapping\, coke bottles\, and even the gel wrappers are all recycled.  Car sharing is encouraged on our race information. Things are not perfect but we do look forward to your comments as we try to improve our sustainability. Please contact Jill directly on this subject on runnerbeano@hotmail.com if you have any comments\, questions or suggestions. \nRACE MERCHANDISE! \nWe also have a range of Deal Half Marathon hats\, snoods and tee shirts for you to purchase when you sign up to race and a few limited items to purchase on the day.
URL:https://www.dealtri.co.uk/event/deal-half-marathon-2026-2/
LOCATION:Betteshanger Country Park\, Sandwich Road\, Deal\, Kent\, CT14 0BF\, United Kingdom
CATEGORIES:Run
END:VEVENT
BEGIN:VEVENT
DTSTART;TZID=Europe/London:20260201T093000
DTEND;TZID=Europe/London:20260201T110000
DTSTAMP:20260421T110822
CREATED:20260125T191542Z
LAST-MODIFIED:20260125T193024Z
UID:10000937-1769938200-1769943600@www.dealtri.co.uk
SUMMARY:Winter Duathlon Series - Round 3- Sunday 1st February
DESCRIPTION:The  Winter Duathlon Series Round 3 will be this Sunday 1st February. \nDuathlon Information \n\nPre-booking your place is required because there are no on the day entries. You have  upto 15:00 on Saturday 31st January to do so by emailing Margaret Reidy @  secretary@dealtri.co.uk\nRegistration is open from 8:30 at the track-side shelter\nRound 2 saw a new format with the introduction of  3 start times\, which worked out well so we will continue with the following format:\nStart 1 – 09:00 this start is for those who finish in around 01:10:00 and above only\nStart 2 – 09:15 this start is for those who finish over the hour and upto 01:09:00\nStart 3 – 09:30 this start is for those who finish under the hour\nHowever\, these are just recommended start times and also just to advise when possible start 3 may go little earlier.\n\n\nRound 4 on Sunday 22nd February and Round 5 which is also the Daniel Squire Club Champ Race is Sunday 1st March
URL:https://www.dealtri.co.uk/event/winter-duathlon-series-round-3-sunday-1st-february/
LOCATION:Betteshanger Country Park\, Sandwich Road\, Deal\, Kent\, CT14 0BF\, United Kingdom
CATEGORIES:Multisport
END:VEVENT
BEGIN:VEVENT
DTSTART;TZID=Europe/London:20251019T093000
DTEND;TZID=Europe/London:20251019T110000
DTSTAMP:20260421T110822
CREATED:20250829T163733Z
LAST-MODIFIED:20250829T163733Z
UID:10000778-1760866200-1760871600@www.dealtri.co.uk
SUMMARY:Winter Duathlon Series - Round 2
DESCRIPTION:Looking to challenge yourself? Then try our  duathlon series which are not intended to be full on ‘races’\, more about being a friendly\, safe training opportunity with an element of competition built in! As always the duathlons will be open to both club members and guests. \n  \n 
URL:https://www.dealtri.co.uk/event/winter-duathlon-series-round-2/
LOCATION:Betteshanger Country Park\, Sandwich Road\, Deal\, Kent\, CT14 0BF\, United Kingdom
END:VEVENT
BEGIN:VEVENT
DTSTART;TZID=Europe/London:20251005T093000
DTEND;TZID=Europe/London:20251005T110000
DTSTAMP:20260421T110822
CREATED:20250829T163333Z
LAST-MODIFIED:20250829T163333Z
UID:10000777-1759656600-1759662000@www.dealtri.co.uk
SUMMARY:Winter Duathlon Series - Round 1
DESCRIPTION:It is great to welcome back our Winter  Duathlon Series for 2025/2026. The duathlon series are not intended to be full on ‘races’\, more about being a friendly\, safe training opportunity with an element of competition built in! As always the duathlons will be open to both club members and guests.
URL:https://www.dealtri.co.uk/event/winter-duathlon-series-round-1/
LOCATION:Betteshanger Country Park\, Sandwich Road\, Deal\, Kent\, CT14 0BF\, United Kingdom
CATEGORIES:Multisport
END:VEVENT
BEGIN:VEVENT
DTSTART;TZID=Europe/London:20250724T183000
DTEND;TZID=Europe/London:20250724T200000
DTSTAMP:20260421T110822
CREATED:20250306T210737Z
LAST-MODIFIED:20250512T192640Z
UID:10000018-1753381800-1753387200@www.dealtri.co.uk
SUMMARY:Summer Duathlon Series - Round 5 and Club Handicap Event
DESCRIPTION:
URL:https://www.dealtri.co.uk/event/summer-duathlon-series-round-5-and-club-handicap-event/
LOCATION:Betteshanger Country Park\, Sandwich Road\, Deal\, Kent\, CT14 0BF\, United Kingdom
CATEGORIES:Multisport
END:VEVENT
BEGIN:VEVENT
DTSTART;TZID=Europe/London:20250710T183000
DTEND;TZID=Europe/London:20250710T200000
DTSTAMP:20260421T110822
CREATED:20250306T210504Z
LAST-MODIFIED:20250512T191120Z
UID:10000017-1752172200-1752177600@www.dealtri.co.uk
SUMMARY:Summer Duathlon Series - Round 4
DESCRIPTION:Round 4 of the Summer Duathlon \n  \n 
URL:https://www.dealtri.co.uk/event/summer-duathlon-series-round-4/
LOCATION:Betteshanger Country Park\, Sandwich Road\, Deal\, Kent\, CT14 0BF\, United Kingdom
CATEGORIES:Multisport
END:VEVENT
BEGIN:VEVENT
DTSTART;TZID=Europe/London:20250619T183000
DTEND;TZID=Europe/London:20250619T200000
DTSTAMP:20260421T110822
CREATED:20250306T205758Z
LAST-MODIFIED:20250512T190926Z
UID:10000016-1750357800-1750363200@www.dealtri.co.uk
SUMMARY:Summer Duathlon Series - Round 3
DESCRIPTION:Round 3 of the Summer Duathlon Series
URL:https://www.dealtri.co.uk/event/summer-duathlon-series-round-3/
LOCATION:Betteshanger Country Park\, Sandwich Road\, Deal\, Kent\, CT14 0BF\, United Kingdom
CATEGORIES:Multisport
END:VEVENT
BEGIN:VEVENT
DTSTART;TZID=Europe/London:20250529T183000
DTEND;TZID=Europe/London:20250529T200000
DTSTAMP:20260421T110822
CREATED:20250306T205255Z
LAST-MODIFIED:20250512T190646Z
UID:10000015-1748543400-1748548800@www.dealtri.co.uk
SUMMARY:Summer Duathlon Series 2025 - Round 2
DESCRIPTION:The duathlon series are not intended to be full on ‘races’\, more about being a friendly\, safe training opportunity with an element of competition built in! As always the duathlons will be open to both club members and guests. \n 
URL:https://www.dealtri.co.uk/event/summer-duathlon-series-2025-round-1/
LOCATION:Betteshanger Country Park\, Sandwich Road\, Deal\, Kent\, CT14 0BF\, United Kingdom
CATEGORIES:Multisport
END:VEVENT
BEGIN:VEVENT
DTSTART;TZID=Europe/London:20250522T180000
DTEND;TZID=Europe/London:20250522T200000
DTSTAMP:20260421T110822
CREATED:20250401T153838Z
LAST-MODIFIED:20250524T141251Z
UID:10000043-1747936800-1747944000@www.dealtri.co.uk
SUMMARY:Early Summer Time Trial
DESCRIPTION:Summer TT results  Amended – Club 10 – mile TT 22-05-25 – Results \n 
URL:https://www.dealtri.co.uk/event/early-summer-time-trial/
LOCATION:Betteshanger Country Park\, Sandwich Road\, Deal\, Kent\, CT14 0BF\, United Kingdom
CATEGORIES:Bike
END:VEVENT
BEGIN:VEVENT
DTSTART;TZID=Europe/London:20250508T183000
DTEND;TZID=Europe/London:20250508T200000
DTSTAMP:20260421T110822
CREATED:20250221T115153Z
LAST-MODIFIED:20250306T205448Z
UID:10000013-1746729000-1746734400@www.dealtri.co.uk
SUMMARY:Summer Duathlon Series
DESCRIPTION:It is great to welcome back our Summer Duathlon Series for 2024. The duathlon series are not intended to be full on ‘races’\, more about being a friendly\, safe training opportunity with an element of competition built in! As always the duathlons will be open to both club members and guests.
URL:https://www.dealtri.co.uk/event/summer-duathlon-series/
LOCATION:Betteshanger Country Park\, Sandwich Road\, Deal\, Kent\, CT14 0BF\, United Kingdom
CATEGORIES:Multisport
END:VEVENT
BEGIN:VEVENT
DTSTART;TZID=Europe/London:20250330T093000
DTEND;TZID=Europe/London:20250330T110000
DTSTAMP:20260421T110822
CREATED:20250306T204600Z
LAST-MODIFIED:20250520T202554Z
UID:10000014-1743327000-1743332400@www.dealtri.co.uk
SUMMARY:Duathlon Winter Series - Round 6
DESCRIPTION:  \n\nThis is a reschedule round for cancelled duathlons due to the weather conditions \nWINTER DUATHLON ROUND 6 RESULTS
URL:https://www.dealtri.co.uk/event/duathlon-winter-series-round-6/
LOCATION:Betteshanger Country Park\, Sandwich Road\, Deal\, Kent\, CT14 0BF\, United Kingdom
CATEGORIES:Multisport
END:VEVENT
BEGIN:VEVENT
DTSTART;TZID=Europe/London:20250302T093000
DTEND;TZID=Europe/London:20250302T110000
DTSTAMP:20260421T110822
CREATED:20250218T084033Z
LAST-MODIFIED:20250306T194946Z
UID:10000011-1740907800-1740913200@www.dealtri.co.uk
SUMMARY:Winter Duathlon Social Series - Round 5
DESCRIPTION:This round will also be our Daniel Squire Club Championship event \n  \nWINTER DUATHLON ROUND 5 RESULTS
URL:https://www.dealtri.co.uk/event/winter-duathlon-social-series-round-5/
LOCATION:Betteshanger Country Park\, Sandwich Road\, Deal\, Kent\, CT14 0BF\, United Kingdom
CATEGORIES:Multisport
END:VEVENT
BEGIN:VEVENT
DTSTART;TZID=Europe/London:20250126T093000
DTEND;TZID=Europe/London:20250126T170000
DTSTAMP:20260421T110822
CREATED:20250109T155244Z
LAST-MODIFIED:20250109T155244Z
UID:10000005-1737883800-1737910800@www.dealtri.co.uk
SUMMARY:Winter Duathlon Series/Round 3- Sunday 26th January 2025
DESCRIPTION:Start time: 09:30 \nLocation: Betteshanger Park \nHost: Margaret Reidy \n  \nRound 3 of the Winter Duathlon Series \nOur Novice Section continues to go from strength to Strength with many having a go\, which is why we plan to continue it in this series and hope to encourage more to join us! The duathlon series are not intended to be full on ‘races’\, more about being a friendly\, safe training opportunity with an element of competition built in! As always the duathlons will be open to both club members and guests. \nOur pre-booking format for this event will continue  and you wiill be able to book your  place from  Sunday 21st January  and  upto Saturday 25th January upto 15:00hrs \, via email: res@number1guesthouse.co.uk  \nSenior Duathlon \nRegistration for the senior duathlon (also suitable for our competent  juniors who are 14yrs and above) will open at 8:45am in the Trackside Shelter and the duathlon will start at 9:30am.  Entry fees for this event remain at £5 for members\, £7 for senior guests and £5 for junior guests and the distances are 1.9 mile run\, 10.1 mile cycle and 1.9 mile run. \nNovice Duathlon \nRegistration for the novice duathlon (also suitable for our competent  juniors who are 14yrs and above)  open at 8:45pm in the Trackside Shelter and the duathlon will start at 9:30pm.  Entry fees for this event remain at £5 for members\, £7 for senior guests and £5 for junior guests and the distances are 1.9 mile run\, 6 mile (3 laps) cycle and 1.25 mile run. \nWe will continue also with the  our 2 starts for those over an hour and for those under the hour! \nAlso please remember there is now no barriers in place at the entrance to the park and the parking payment must be paid on the way out via the payment machines located at the visitors centre and the cost is £5.00. However\, should there be problems with the payment machines you have upto 48hrs after leaving the park topay online www.parkwithease.co.uk \nAs always\, we will be needing marshals to help out on the day so please let me know ASAP if you are able to assist – res@number1guesthouse.co.uk
URL:https://www.dealtri.co.uk/event/winter-duathlon-series-round-3-sunday-26th-january-2025/
LOCATION:Betteshanger Country Park\, Sandwich Road\, Deal\, Kent\, CT14 0BF\, United Kingdom
CATEGORIES:Multisport
END:VEVENT
BEGIN:VEVENT
DTSTART;TZID=Europe/London:20240218T103000
DTEND;TZID=Europe/London:20240218T103000
DTSTAMP:20260421T110822
CREATED:20250109T154540Z
LAST-MODIFIED:20250109T161147Z
UID:10000007-1708252200-1708252200@www.dealtri.co.uk
SUMMARY:Deal Half Marathon 2024
DESCRIPTION:DEAL HALF MARATHON 18TH FEBRUARY 2024 \nWell after a dyer forecast\, the sun came out and we had pretty much perrfect running conditions!  Many thanks to all the helpers\, marshals\, sponsors\, Margate Ambulance Corps\, Kev Daly for the commentary\, Raynet for the excellent communication system and Betteshanger Park for hosting us and to Liam from Sport Systems for doing such an excellent job with the entries\, timing ahd results. \nWell done to our winners\, Tom Bean in 1:16:36 and Florence Papougnot\, in a new course record of 1:23:35.  Our age group winners were Nasradine Haroun\, Tom Bean\, George Major\, Gary Barnes\, and David Paramor.  For the females\, Florence Papougnot\, Vicky Scott\, Linnaea Stockall\, and Marie Watson. \nThe team prizes went to Folkestone Running Club for the women and Thanet Road Runners for the men.  Many thanks to Podplus Sports Shop and Injury Clinic for sponsoring our prizes. \nThe junior race was fast to say the least\, won by Edward Owen in 5 mins 25 seconds\, not bad for an 11-12 year old!  A brilliant run for second was Thai Rose in 5:44\, and third place was Raphael Munro.  The age group winners were Edward Owen\, Leo Sargood\, Savannah Hunt\, Macy Godden\, Gabriel Munro\, and Tia Rose. \nHere is the link to the results for the Half Marathon  and here for the Junior race. \nThis year we have raised £783 for research into Pancreatic Cancer.  Deal Tri Club have donated £2 for every Deal Half Marathon entrant to enter a raffle for 2 prizes of 2 box tickets each to see Michael Mcintyre at the O2 on Friday 5th April!  Our winners are Ben Hunt and Dai Jones!   This total includes £76 donated at the point of entry\, £40 on our Enthuse site\, and £127 from tickets sold on the day.  Thank you to everyone who bought tickets and contributed to our final total.  Click on the logo below to go to the Pancreatic Cancer Action website. \nThe Woodland Trust \nWe have also raised £48 for the Woodland Trust as a result of those runners who chose not to receive a coaster or a medal. \nAny queries please contact Jill Cliff on runnerbeano@hotmail.com or Liam on liam.burke@sportsystems.co.uk \nMANY THANKS TO OUR 2024 DEAL HALF SPONSORS
URL:https://www.dealtri.co.uk/event/deal-half-marathon-2024/
LOCATION:Betteshanger Country Park\, Sandwich Road\, Deal\, Kent\, CT14 0BF\, United Kingdom
CATEGORIES:Run
END:VEVENT
END:VCALENDAR